BEGIN:VCALENDAR
VERSION:2.0
PRODID:-//THE ESTATES OF LITTLE BEAR - ECPv6.15.20//NONSGML v1.0//EN
CALSCALE:GREGORIAN
METHOD:PUBLISH
X-WR-CALNAME:THE ESTATES OF LITTLE BEAR
X-ORIGINAL-URL:https://estatesoflittlebear.org
X-WR-CALDESC:Events for THE ESTATES OF LITTLE BEAR
REFRESH-INTERVAL;VALUE=DURATION:PT1H
X-Robots-Tag:noindex
X-PUBLISHED-TTL:PT1H
BEGIN:VTIMEZONE
TZID:America/Chicago
BEGIN:DAYLIGHT
TZOFFSETFROM:-0600
TZOFFSETTO:-0500
TZNAME:CDT
DTSTART:20220313T080000
END:DAYLIGHT
BEGIN:STANDARD
TZOFFSETFROM:-0500
TZOFFSETTO:-0600
TZNAME:CST
DTSTART:20221106T070000
END:STANDARD
BEGIN:DAYLIGHT
TZOFFSETFROM:-0600
TZOFFSETTO:-0500
TZNAME:CDT
DTSTART:20230312T080000
END:DAYLIGHT
BEGIN:STANDARD
TZOFFSETFROM:-0500
TZOFFSETTO:-0600
TZNAME:CST
DTSTART:20231105T070000
END:STANDARD
BEGIN:DAYLIGHT
TZOFFSETFROM:-0600
TZOFFSETTO:-0500
TZNAME:CDT
DTSTART:20240310T080000
END:DAYLIGHT
BEGIN:STANDARD
TZOFFSETFROM:-0500
TZOFFSETTO:-0600
TZNAME:CST
DTSTART:20241103T070000
END:STANDARD
BEGIN:DAYLIGHT
TZOFFSETFROM:-0600
TZOFFSETTO:-0500
TZNAME:CDT
DTSTART:20250309T080000
END:DAYLIGHT
BEGIN:STANDARD
TZOFFSETFROM:-0500
TZOFFSETTO:-0600
TZNAME:CST
DTSTART:20251102T070000
END:STANDARD
END:VTIMEZONE
BEGIN:VEVENT
DTSTART;TZID=America/Chicago:20240419T080000
DTEND;TZID=America/Chicago:20240420T150000
DTSTAMP:20260423T123730
CREATED:20230217T180728Z
LAST-MODIFIED:20231229T230053Z
UID:653-1713513600-1713625200@estatesoflittlebear.org
SUMMARY:Neighborhood Garage Sale
DESCRIPTION:Hello Wonderful neighbors! \nIt’s that time again to clean out your closets\, toys and clutter from your home and Let’s have a garage sale! The more the merrier!! \n1. There will be advertisements posted as in the past! 8:00 am to 3:00 pm each day! \n2. Signs\, gates\, etc. will be arranged like past events. \n3. If you are interested and going to set up for the event\, please let me know so se can make sure your home is listed properly. \n4. Start planning now; and help spread the word! \nContact Carmen Simpson to confirm your participation and to receive your balloon at: carmencsimpson64@gmail.com
URL:https://estatesoflittlebear.org/event/neighborhood-garage-sale
ATTACH;FMTTYPE=image/jpeg:https://estatesoflittlebear.org/wp-content/uploads/2022/12/Garage-sale-2.jpg
END:VEVENT
BEGIN:VEVENT
DTSTART;TZID=America/Chicago:20231231T140000
DTEND;TZID=America/Chicago:20231231T160000
DTSTAMP:20260423T123730
CREATED:20231128T174227Z
LAST-MODIFIED:20231229T225238Z
UID:760-1704031200-1704038400@estatesoflittlebear.org
SUMMARY:Removing  Entrance /Exit Decorations!
DESCRIPTION:We will need some help in taking down the Christmas decorations this Sunday at 2 pm.. If we can get volunteers it will only take about an hour Max. \nIf you could not come down to help put up-please come out on this nice day and assist in taking down some of the decorations!  \nthanks so much\nHOA Board for Estates of Little Bear!
URL:https://estatesoflittlebear.org/event/decorating-entrance-exit-for-christmas-season
ATTACH;FMTTYPE=image/jpeg:https://estatesoflittlebear.org/wp-content/uploads/2023/11/Christmas-Decorating.jpg
END:VEVENT
BEGIN:VEVENT
DTSTART;TZID=America/Chicago:20231210T140000
DTEND;TZID=America/Chicago:20231210T153000
DTSTAMP:20260423T123730
CREATED:20231206T231319Z
LAST-MODIFIED:20231206T231430Z
UID:766-1702216800-1702222200@estatesoflittlebear.org
SUMMARY:Cookies and Cocoa in the Cul-De-Sac
DESCRIPTION:We will have Hot Cocoa  —-\nBring your Best Cookies to Share!
URL:https://estatesoflittlebear.org/event/cookies-and-cocoa-in-the-cul-de-sac
ATTACH;FMTTYPE=image/jpeg:https://estatesoflittlebear.org/wp-content/uploads/2022/07/winter-cocoa.jpg
END:VEVENT
BEGIN:VEVENT
DTSTART;TZID=America/Chicago:20231005T190000
DTEND;TZID=America/Chicago:20231005T210000
DTSTAMP:20260423T123730
CREATED:20230830T122616Z
LAST-MODIFIED:20230830T122616Z
UID:728-1696532400-1696539600@estatesoflittlebear.org
SUMMARY:Annual Little Bear Estates HOA Business Meeting
DESCRIPTION:Meeting will held at Mike and Carmen’s house 2301 Little Bear. \nNew Officers will be elected.
URL:https://estatesoflittlebear.org/event/annual-little-bear-estates-hoa-business-meeting
ATTACH;FMTTYPE=image/jpeg:https://estatesoflittlebear.org/wp-content/uploads/2023/08/Business-Meeting.jpg
END:VEVENT
BEGIN:VEVENT
DTSTART;TZID=America/Chicago:20230524T120000
DTEND;TZID=America/Chicago:20230524T123000
DTSTAMP:20260423T123731
CREATED:20230217T181056Z
LAST-MODIFIED:20230602T000855Z
UID:655-1684929600-1684931400@estatesoflittlebear.org
SUMMARY:End of School - Kids Event
DESCRIPTION:More Information to come!
URL:https://estatesoflittlebear.org/event/end-of-school-kids-event
LOCATION:Gathering Space
ATTACH;FMTTYPE=image/jpeg:https://estatesoflittlebear.org/wp-content/uploads/2022/07/Schools-Out.jpg
END:VEVENT
BEGIN:VEVENT
DTSTART;TZID=America/Chicago:20230401T120000
DTEND;TZID=America/Chicago:20230401T170000
DTSTAMP:20260423T123731
CREATED:20230217T181431Z
LAST-MODIFIED:20230218T134515Z
UID:658-1680350400-1680368400@estatesoflittlebear.org
SUMMARY:Easter Egg Hunt
DESCRIPTION:1. If you are able to help by donating plastic eggs\, candies / treats that fit into the eggs or with organizing the event please email me. \n2. If you have materials to donate\, please drop them off at 2504 Kodiak Circle in the Homsteads. \n3. If you would please help spread the word by sharing this information in a neighborhood email or newsletter please let me know
URL:https://estatesoflittlebear.org/event/easter-egg-hunt
ATTACH;FMTTYPE=image/jpeg:https://estatesoflittlebear.org/wp-content/uploads/2023/02/easter-egg-hubt.jpg
END:VEVENT
BEGIN:VEVENT
DTSTART;TZID=America/Chicago:20230311T090000
DTEND;TZID=America/Chicago:20230311T120000
DTSTAMP:20260423T123731
CREATED:20230217T164412Z
LAST-MODIFIED:20230307T005718Z
UID:633-1678525200-1678536000@estatesoflittlebear.org
SUMMARY:Greenbelt Cleanup
DESCRIPTION:As the spring rains come the creeks and ponds will continue to collect more trash. \n    1. There is always trash accumulating in the creeks and ponds  \n    2. Anytime you are able\, please pick up what you see.  \n    3. Mark your calendar for Saturday\, March 18th. We ask anyone that is available\, to meet at the creek bed with trash bags
URL:https://estatesoflittlebear.org/event/greenbelt-cleanup
ATTACH;FMTTYPE=image/jpeg:https://estatesoflittlebear.org/wp-content/uploads/2022/07/garbage.jpg
END:VEVENT
END:VCALENDAR